BEGIN:VCALENDAR
VERSION:2.0
PRODID:-//ehlers-danlos.se - ECPv6.15.20//NONSGML v1.0//EN
CALSCALE:GREGORIAN
METHOD:PUBLISH
X-WR-CALNAME:ehlers-danlos.se
X-ORIGINAL-URL:https://ehlers-danlos.se
X-WR-CALDESC:Händelser för ehlers-danlos.se
REFRESH-INTERVAL;VALUE=DURATION:PT1H
X-Robots-Tag:noindex
X-PUBLISHED-TTL:PT1H
BEGIN:VTIMEZONE
TZID:Europe/Stockholm
BEGIN:DAYLIGHT
TZOFFSETFROM:+0100
TZOFFSETTO:+0200
TZNAME:CEST
DTSTART:20240331T010000
END:DAYLIGHT
BEGIN:STANDARD
TZOFFSETFROM:+0200
TZOFFSETTO:+0100
TZNAME:CET
DTSTART:20241027T010000
END:STANDARD
BEGIN:DAYLIGHT
TZOFFSETFROM:+0100
TZOFFSETTO:+0200
TZNAME:CEST
DTSTART:20250330T010000
END:DAYLIGHT
BEGIN:STANDARD
TZOFFSETFROM:+0200
TZOFFSETTO:+0100
TZNAME:CET
DTSTART:20251026T010000
END:STANDARD
BEGIN:DAYLIGHT
TZOFFSETFROM:+0100
TZOFFSETTO:+0200
TZNAME:CEST
DTSTART:20260329T010000
END:DAYLIGHT
BEGIN:STANDARD
TZOFFSETFROM:+0200
TZOFFSETTO:+0100
TZNAME:CET
DTSTART:20261025T010000
END:STANDARD
END:VTIMEZONE
BEGIN:VEVENT
DTSTART;TZID=Europe/Stockholm:20251126T180000
DTEND;TZID=Europe/Stockholm:20251126T210000
DTSTAMP:20260425T182458
CREATED:20251028T184747Z
LAST-MODIFIED:20251124T133539Z
UID:29801-1764180000-1764190800@ehlers-danlos.se
SUMMARY:Digital fikaträff EDS Jönköping 26 november! (istället för extra årsmöte)!
DESCRIPTION:Digital fikaträff EDS Jönköping (istället för extra årsmöte)!  \nDå förutsättningarna ändrats med kort varsel så blir det en digital fikaträff istället för extra årsmöte i EDS Jönköping den 26 november kl. 18.00. Samma möteslänk som tidigare skickats ut via mail till alla medlemmar gäller fortfarande. Information om att detta nu blir en digital fikaträff har också mailats ut. \nVarmt välkommen! \nVänliga hälsningar\, \nStyrelsen i EDS Jönköping
URL:https://ehlers-danlos.se/event/digital-fikatraff-eds-jonkoping-26-november/
LOCATION:Online via Zoom
CATEGORIES:Årsmöte,Jönköping,Lokalförening
ORGANIZER;CN="EDS J%C3%B6nk%C3%B6ping":MAILTO:linda.ottostrand@ehlers-danlos.se
END:VEVENT
END:VCALENDAR