BEGIN:VCALENDAR
VERSION:2.0
PRODID:-//ehlers-danlos.se - ECPv6.15.20//NONSGML v1.0//EN
CALSCALE:GREGORIAN
METHOD:PUBLISH
X-ORIGINAL-URL:https://ehlers-danlos.se
X-WR-CALDESC:Händelser för ehlers-danlos.se
REFRESH-INTERVAL;VALUE=DURATION:PT1H
X-Robots-Tag:noindex
X-PUBLISHED-TTL:PT1H
BEGIN:VTIMEZONE
TZID:Europe/Stockholm
BEGIN:DAYLIGHT
TZOFFSETFROM:+0100
TZOFFSETTO:+0200
TZNAME:CEST
DTSTART:20250330T010000
END:DAYLIGHT
BEGIN:STANDARD
TZOFFSETFROM:+0200
TZOFFSETTO:+0100
TZNAME:CET
DTSTART:20251026T010000
END:STANDARD
BEGIN:DAYLIGHT
TZOFFSETFROM:+0100
TZOFFSETTO:+0200
TZNAME:CEST
DTSTART:20260329T010000
END:DAYLIGHT
BEGIN:STANDARD
TZOFFSETFROM:+0200
TZOFFSETTO:+0100
TZNAME:CET
DTSTART:20261025T010000
END:STANDARD
BEGIN:DAYLIGHT
TZOFFSETFROM:+0100
TZOFFSETTO:+0200
TZNAME:CEST
DTSTART:20270328T010000
END:DAYLIGHT
BEGIN:STANDARD
TZOFFSETFROM:+0200
TZOFFSETTO:+0100
TZNAME:CET
DTSTART:20271031T010000
END:STANDARD
END:VTIMEZONE
BEGIN:VEVENT
DTSTART;TZID=Europe/Stockholm:20260301T120000
DTEND;TZID=Europe/Stockholm:20260301T170000
DTSTAMP:20260423T021051
CREATED:20260127T103123Z
LAST-MODIFIED:20260127T103123Z
UID:29968-1772366400-1772384400@ehlers-danlos.se
SUMMARY:Årsmöte EDS Västra Götaland
DESCRIPTION:Årsmöte 1 mars kl 12 via zoom
URL:https://ehlers-danlos.se/event/arsmote-eds-vastra-gotaland-2/
LOCATION:Online via Zoom
CATEGORIES:Årsmöte,Lokalförening,Västra Götaland
ORGANIZER;CN="EDS V%C3%A4stra G%C3%B6taland":MAILTO:infovastragotaland@ehlers-danlos.se
END:VEVENT
BEGIN:VEVENT
DTSTART;TZID=Europe/Stockholm:20260301T150000
DTEND;TZID=Europe/Stockholm:20260301T170000
DTSTAMP:20260423T021051
CREATED:20260116T124243Z
LAST-MODIFIED:20260116T124243Z
UID:29943-1772377200-1772384400@ehlers-danlos.se
SUMMARY:Årsmöte EDS Örebro
DESCRIPTION:Årsmöte EDS Örebro \nFysiskt årsmöte. \nPlats: Almby församlingshem\, Örebro. \nKallelse och mer information skickas ut via mail samt finns på hemsidan. \nÅrsmöteshandlingar publiceras på hemsidan senast två veckor innan årsmötet. \nFöreningen bjuder också på fika vid mötet!
URL:https://ehlers-danlos.se/event/arsmote-eds-orebro/
LOCATION:Almby församlingshem\, Almbyvägen 4\, Örebro\, 702 84\, Sweden
CATEGORIES:Årsmöte,Lokalförening,Örebro
END:VEVENT
BEGIN:VEVENT
DTSTART;TZID=Europe/Stockholm:20260311T180000
DTEND;TZID=Europe/Stockholm:20260311T210000
DTSTAMP:20260423T021051
CREATED:20260202T131206Z
LAST-MODIFIED:20260202T131206Z
UID:29989-1773252000-1773262800@ehlers-danlos.se
SUMMARY:Årsmöte EDS Västerbotten
DESCRIPTION:Årsmöte\nDatum: Onsdag 11 mars \nKl. 18:00 \nPlats: Via Zoom \nÅrets årsmöte hålls onsdagen den 11 mars 18.00 digitalt via Zoom och anmälan görs till infovasterbotten@ehlers-danlos.se senast den 9 mars. \nLänk och årsmötes handlingar skickas ut den 10 mars till samtliga anmälda.
URL:https://ehlers-danlos.se/event/arsmote-eds-vasterbotten-3/
LOCATION:Online via Zoom
CATEGORIES:Årsmöte,Lokalförening,Västerbotten
ORGANIZER;CN="EDS V%C3%A4sterbotten":MAILTO:infovasterbotten@ehlers-danlos.se
END:VEVENT
BEGIN:VEVENT
DTSTART;TZID=Europe/Stockholm:20260314T140000
DTEND;TZID=Europe/Stockholm:20260314T170000
DTSTAMP:20260423T021051
CREATED:20260210T103301Z
LAST-MODIFIED:20260210T103301Z
UID:30011-1773496800-1773507600@ehlers-danlos.se
SUMMARY:Årsmöte EDS Skåne/Blekinge
DESCRIPTION:Årsmöte EDS Skåne/Blekinge \nÅrsmöte 14 mars kl. 14.00 via Zoom.
URL:https://ehlers-danlos.se/event/arsmote-eds-skane-blekinge-2/
LOCATION:Online via Zoom
CATEGORIES:Årsmöte,Lokalförening,Skåne/Blekinge
ORGANIZER;CN="EDS Sk%C3%A5ne":MAILTO:infoskane@ehlers-danlos.se
END:VEVENT
BEGIN:VEVENT
DTSTART;TZID=Europe/Stockholm:20260315T180000
DTEND;TZID=Europe/Stockholm:20260315T200000
DTSTAMP:20260423T021051
CREATED:20260216T133752Z
LAST-MODIFIED:20260216T133752Z
UID:30044-1773597600-1773604800@ehlers-danlos.se
SUMMARY:Årsmöte EDS Kalmar
DESCRIPTION:Årsmöte EDS Kalmar \nÅrsmöte 15 mars kl. 18.00 via Zoom.
URL:https://ehlers-danlos.se/event/arsmote-eds-kalmar-3/
LOCATION:Online via Zoom
CATEGORIES:Årsmöte,Kalmar,Lokalförening
ORGANIZER;CN="EDS Kalmar":MAILTO:infokalmar@ehlers-danlos.se
END:VEVENT
BEGIN:VEVENT
DTSTART;TZID=Europe/Stockholm:20260317T180000
DTEND;TZID=Europe/Stockholm:20260317T200000
DTSTAMP:20260423T021051
CREATED:20260216T133900Z
LAST-MODIFIED:20260216T133900Z
UID:30046-1773770400-1773777600@ehlers-danlos.se
SUMMARY:Årsmöte EDS Jönköping
DESCRIPTION:Årsmöte EDS Jönköping \nÅrsmöte 17 mars kl. 18.00 via Zoom.
URL:https://ehlers-danlos.se/event/arsmote-eds-jonkoping-4/
LOCATION:Online via Zoom
CATEGORIES:Årsmöte,Jönköping,Lokalförening
ORGANIZER;CN="EDS J%C3%B6nk%C3%B6ping":MAILTO:linda.ottostrand@ehlers-danlos.se
END:VEVENT
BEGIN:VEVENT
DTSTART;TZID=Europe/Stockholm:20260318T183000
DTEND;TZID=Europe/Stockholm:20260318T210000
DTSTAMP:20260423T021051
CREATED:20260210T103023Z
LAST-MODIFIED:20260210T103023Z
UID:30007-1773858600-1773867600@ehlers-danlos.se
SUMMARY:Årsmöte EDS Västernorrland
DESCRIPTION:Årsmöte EDS Västernorrland \nÅrsmöte 18 mars kl. 18.30 via Zoom.
URL:https://ehlers-danlos.se/event/arsmote-eds-vasternorrland-2/
LOCATION:Online via Zoom
CATEGORIES:Årsmöte,Lokalförening,Västernorrland
ORGANIZER;CN="EDS V%C3%A4sternorrland":MAILTO:anette.edler@ehlers-danlos.se
END:VEVENT
BEGIN:VEVENT
DTSTART;TZID=Europe/Stockholm:20260322T140000
DTEND;TZID=Europe/Stockholm:20260322T170000
DTSTAMP:20260423T021051
CREATED:20260212T163744Z
LAST-MODIFIED:20260212T163744Z
UID:30017-1774188000-1774198800@ehlers-danlos.se
SUMMARY:Årsmöte EDS Gävleborg
DESCRIPTION:Årsmöte EDS Gävleborg \nSöndag den 22 mars \nkl. 14.00 via Teams.
URL:https://ehlers-danlos.se/event/arsmote-eds-gavleborg/
LOCATION:Online via Teams
CATEGORIES:Årsmöte,Gävleborg,Lokalförening
END:VEVENT
BEGIN:VEVENT
DTSTART;TZID=Europe/Stockholm:20260322T150000
DTEND;TZID=Europe/Stockholm:20260322T173000
DTSTAMP:20260423T021051
CREATED:20260210T103148Z
LAST-MODIFIED:20260210T103148Z
UID:30009-1774191600-1774200600@ehlers-danlos.se
SUMMARY:Årsmöte EDS Värmland
DESCRIPTION:Årsmöte EDS Värmland \nÅrsmöte 22 mars kl. 15.00 via Zoom.
URL:https://ehlers-danlos.se/event/arsmote-eds-varmland-3/
LOCATION:Online via Zoom
CATEGORIES:Årsmöte,Lokalförening,Värmland
ORGANIZER;CN="EDS V%C3%A4rmland":MAILTO:infovarmland@ehlers-danlos.se
END:VEVENT
BEGIN:VEVENT
DTSTART;TZID=Europe/Stockholm:20260322T160000
DTEND;TZID=Europe/Stockholm:20260322T180000
DTSTAMP:20260423T021051
CREATED:20260219T130216Z
LAST-MODIFIED:20260219T130216Z
UID:30058-1774195200-1774202400@ehlers-danlos.se
SUMMARY:Årsmöte EDS Uppsala
DESCRIPTION:Årsmöte EDS Uppsala \nÅrsmöte 22 mars kl. 16.00. Digitalt.
URL:https://ehlers-danlos.se/event/arsmote-eds-uppsala-3/
LOCATION:Online via Zoom
CATEGORIES:Årsmöte,Lokalförening,Uppsala
ORGANIZER;CN="EDS Uppsala":MAILTO:infouppsala@ehlers-danlos.se
END:VEVENT
BEGIN:VEVENT
DTSTART;TZID=Europe/Stockholm:20260328T100000
DTEND;TZID=Europe/Stockholm:20260328T110000
DTSTAMP:20260423T021051
CREATED:20260212T163954Z
LAST-MODIFIED:20260212T163954Z
UID:30019-1774692000-1774695600@ehlers-danlos.se
SUMMARY:Årsmöte EDS Västmanland
DESCRIPTION:Årsmöte EDS Västmanland \nLördag den 28 mars \nkl. 10.00 via Zoom.
URL:https://ehlers-danlos.se/event/arsmote-eds-vastmanland/
LOCATION:Online via Zoom
CATEGORIES:Årsmöte,Lokalförening,Västmanland
END:VEVENT
BEGIN:VEVENT
DTSTART;TZID=Europe/Stockholm:20260329T140000
DTEND;TZID=Europe/Stockholm:20260329T160000
DTSTAMP:20260423T021051
CREATED:20260226T113120Z
LAST-MODIFIED:20260226T113120Z
UID:30099-1774792800-1774800000@ehlers-danlos.se
SUMMARY:Årsmöte EDS Stockholm/Gotland
DESCRIPTION:Årsmöte EDS Stockholm/Gotland\nmars 29 @ 14:00 – 16:00\nOnline via Zoom\nÅrsmöte EDS Stockholm/Gotland Söndag den 29 mars kl. 14.00 via Zoom. Incheckning från 13.45.
URL:https://ehlers-danlos.se/event/arsmote-eds-stockholm-gotland-2/
LOCATION:Online via Zoom
CATEGORIES:Årsmöte,Regionförening,Stockholm/Gotland
ORGANIZER;CN="EDS Stockholm/Gotland":MAILTO:infostockholm@ehlers-danlos.se
END:VEVENT
BEGIN:VEVENT
DTSTART;TZID=Europe/Stockholm:20260331T180000
DTEND;TZID=Europe/Stockholm:20260331T190000
DTSTAMP:20260423T021051
CREATED:20260220T141555Z
LAST-MODIFIED:20260220T141555Z
UID:30074-1774980000-1774983600@ehlers-danlos.se
SUMMARY:Årsmöte EDS Kronoberg
DESCRIPTION:Årsmöte EDS Kronoberg \nmars 31 @ 18:00 – 19:00\nOnline via Teams\nÅrsmöte EDS Kronoberg tisdag den 31 mars kl. 18.00 via Teams.
URL:https://ehlers-danlos.se/event/arsmote-eds-kronoberg-4/
LOCATION:Online via Teams
CATEGORIES:Årsmöte,Kronoberg,Lokalförening
END:VEVENT
END:VCALENDAR