BEGIN:VCALENDAR
VERSION:2.0
PRODID:-//ehlers-danlos.se - ECPv6.15.20//NONSGML v1.0//EN
CALSCALE:GREGORIAN
METHOD:PUBLISH
X-WR-CALNAME:ehlers-danlos.se
X-ORIGINAL-URL:https://ehlers-danlos.se
X-WR-CALDESC:Händelser för ehlers-danlos.se
REFRESH-INTERVAL;VALUE=DURATION:PT1H
X-Robots-Tag:noindex
X-PUBLISHED-TTL:PT1H
BEGIN:VTIMEZONE
TZID:Europe/Stockholm
BEGIN:DAYLIGHT
TZOFFSETFROM:+0100
TZOFFSETTO:+0200
TZNAME:CEST
DTSTART:20250330T010000
END:DAYLIGHT
BEGIN:STANDARD
TZOFFSETFROM:+0200
TZOFFSETTO:+0100
TZNAME:CET
DTSTART:20251026T010000
END:STANDARD
BEGIN:DAYLIGHT
TZOFFSETFROM:+0100
TZOFFSETTO:+0200
TZNAME:CEST
DTSTART:20260329T010000
END:DAYLIGHT
BEGIN:STANDARD
TZOFFSETFROM:+0200
TZOFFSETTO:+0100
TZNAME:CET
DTSTART:20261025T010000
END:STANDARD
BEGIN:DAYLIGHT
TZOFFSETFROM:+0100
TZOFFSETTO:+0200
TZNAME:CEST
DTSTART:20270328T010000
END:DAYLIGHT
BEGIN:STANDARD
TZOFFSETFROM:+0200
TZOFFSETTO:+0100
TZNAME:CET
DTSTART:20271031T010000
END:STANDARD
END:VTIMEZONE
BEGIN:VEVENT
DTSTART;TZID=Europe/Stockholm:20260418T140000
DTEND;TZID=Europe/Stockholm:20260418T170000
DTSTAMP:20260423T021107
CREATED:20260325T104401Z
LAST-MODIFIED:20260325T104401Z
UID:30216-1776520800-1776531600@ehlers-danlos.se
SUMMARY:Årsmöte EDS Riksförbund
DESCRIPTION:Årsmöte EDS Riksförbund\n18 april kl 14.00\nOnline via Zoom \nMer information samt årsmöteshandlingar finns under MINA SIDOR/ÅRSMÖTE på hemsidan. För att delta på årsmötet\, anmäl dig med namn och e-postadress (den som EDS Riksförbund har kopplad till dig) till anmalan@ehlers-danlos.se senast den 13 april. Länk till mötet kommer någon dag innan mötet. Varmt välkommen!
URL:https://ehlers-danlos.se/event/arsmote-eds-riksforbund/
LOCATION:Online via Zoom
CATEGORIES:Årsmöte,Riksförbundet
ORGANIZER;CN="EDS Riksf%C3%B6rbund":MAILTO:info@ehlers-danlos.se
END:VEVENT
END:VCALENDAR