BEGIN:VCALENDAR
VERSION:2.0
PRODID:-//ehlers-danlos.se - ECPv6.15.20//NONSGML v1.0//EN
CALSCALE:GREGORIAN
METHOD:PUBLISH
X-ORIGINAL-URL:https://ehlers-danlos.se
X-WR-CALDESC:Händelser för ehlers-danlos.se
REFRESH-INTERVAL;VALUE=DURATION:PT1H
X-Robots-Tag:noindex
X-PUBLISHED-TTL:PT1H
BEGIN:VTIMEZONE
TZID:Europe/Stockholm
BEGIN:DAYLIGHT
TZOFFSETFROM:+0100
TZOFFSETTO:+0200
TZNAME:CEST
DTSTART:20240331T010000
END:DAYLIGHT
BEGIN:STANDARD
TZOFFSETFROM:+0200
TZOFFSETTO:+0100
TZNAME:CET
DTSTART:20241027T010000
END:STANDARD
BEGIN:DAYLIGHT
TZOFFSETFROM:+0100
TZOFFSETTO:+0200
TZNAME:CEST
DTSTART:20250330T010000
END:DAYLIGHT
BEGIN:STANDARD
TZOFFSETFROM:+0200
TZOFFSETTO:+0100
TZNAME:CET
DTSTART:20251026T010000
END:STANDARD
BEGIN:DAYLIGHT
TZOFFSETFROM:+0100
TZOFFSETTO:+0200
TZNAME:CEST
DTSTART:20260329T010000
END:DAYLIGHT
BEGIN:STANDARD
TZOFFSETFROM:+0200
TZOFFSETTO:+0100
TZNAME:CET
DTSTART:20261025T010000
END:STANDARD
END:VTIMEZONE
BEGIN:VEVENT
DTSTART;TZID=Europe/Stockholm:20250608T140000
DTEND;TZID=Europe/Stockholm:20250608T170000
DTSTAMP:20260426T051424
CREATED:20250512T110128Z
LAST-MODIFIED:20250512T110128Z
UID:29535-1749391200-1749402000@ehlers-danlos.se
SUMMARY:Fikaträff på Vasa konditori i Örebro
DESCRIPTION:Söndag den 8 juni kl 14 är är det fikaträff på Vasa konditori (Vasagatan 15) i Örebro. EDS Riksförbund bjuder på fika och vi bekantar oss med varandra. Välkommen oavsett om du är diagnosbärare\, anhörig eller intresserad av annat skäl! \n 
URL:https://ehlers-danlos.se/event/fikatraff-pa-vasa-konditori-i-orebro/
LOCATION:Vasa konditori\, Vasagatan 15\, Örebro\, Sweden
CATEGORIES:Fikaträff,Lokalförening,Örebro
ORGANIZER;CN="EDS Riksf%C3%B6rbund":MAILTO:info@ehlers-danlos.se
END:VEVENT
END:VCALENDAR