BEGIN:VCALENDAR
VERSION:2.0
PRODID:-//ehlers-danlos.se - ECPv6.15.20//NONSGML v1.0//EN
CALSCALE:GREGORIAN
METHOD:PUBLISH
X-WR-CALNAME:ehlers-danlos.se
X-ORIGINAL-URL:https://ehlers-danlos.se
X-WR-CALDESC:Händelser för ehlers-danlos.se
REFRESH-INTERVAL;VALUE=DURATION:PT1H
X-Robots-Tag:noindex
X-PUBLISHED-TTL:PT1H
BEGIN:VTIMEZONE
TZID:Europe/Stockholm
BEGIN:DAYLIGHT
TZOFFSETFROM:+0100
TZOFFSETTO:+0200
TZNAME:CEST
DTSTART:20240331T010000
END:DAYLIGHT
BEGIN:STANDARD
TZOFFSETFROM:+0200
TZOFFSETTO:+0100
TZNAME:CET
DTSTART:20241027T010000
END:STANDARD
BEGIN:DAYLIGHT
TZOFFSETFROM:+0100
TZOFFSETTO:+0200
TZNAME:CEST
DTSTART:20250330T010000
END:DAYLIGHT
BEGIN:STANDARD
TZOFFSETFROM:+0200
TZOFFSETTO:+0100
TZNAME:CET
DTSTART:20251026T010000
END:STANDARD
BEGIN:DAYLIGHT
TZOFFSETFROM:+0100
TZOFFSETTO:+0200
TZNAME:CEST
DTSTART:20260329T010000
END:DAYLIGHT
BEGIN:STANDARD
TZOFFSETFROM:+0200
TZOFFSETTO:+0100
TZNAME:CET
DTSTART:20261025T010000
END:STANDARD
END:VTIMEZONE
BEGIN:VEVENT
DTSTART;TZID=Europe/Stockholm:20251008T180000
DTEND;TZID=Europe/Stockholm:20251008T200000
DTSTAMP:20260425T173950
CREATED:20250929T195738Z
LAST-MODIFIED:20250929T195738Z
UID:29734-1759946400-1759953600@ehlers-danlos.se
SUMMARY:Du inbjuds att vara med på en digital medlemskväll onsdagen den 8 oktober klockan 18 kring Patientnämnden i Skåne.
DESCRIPTION:Du inbjuds att vara med på en digital medlemskväll onsdagen den 8 oktober klockan 18 kring Patientnämnden i Skåne. \nhttps://www.skane.se/halsa-och-vard/regler-och-rattigheter-i-varden/patientnamnden/ \nMichell Grönlund\, kommunikatör vid Patientnämnden inleder. Mötet sker digitalt via zoom\, så klicka bara på denna länk så kommer du med i \nmötet: \nhttps://us06web.zoom.us/j/86803576743?pwd=mcRaf9laUKtsU9wgbaGxbsIZ8KlR1n.1 \nVälkommen!
URL:https://ehlers-danlos.se/event/du-inbjuds-att-vara-med-pa-en-digital-medlemskvall-onsdagen-den-8-oktober-klockan-18-kring-patientnamnden-i-skane/
LOCATION:Online via Zoom
CATEGORIES:Lokalförening,Skåne/Blekinge
END:VEVENT
END:VCALENDAR