BEGIN:VCALENDAR
VERSION:2.0
PRODID:-//ehlers-danlos.se - ECPv6.15.20//NONSGML v1.0//EN
CALSCALE:GREGORIAN
METHOD:PUBLISH
X-ORIGINAL-URL:https://ehlers-danlos.se
X-WR-CALDESC:Händelser för ehlers-danlos.se
REFRESH-INTERVAL;VALUE=DURATION:PT1H
X-Robots-Tag:noindex
X-PUBLISHED-TTL:PT1H
BEGIN:VTIMEZONE
TZID:Europe/Stockholm
BEGIN:DAYLIGHT
TZOFFSETFROM:+0100
TZOFFSETTO:+0200
TZNAME:CEST
DTSTART:20240331T010000
END:DAYLIGHT
BEGIN:STANDARD
TZOFFSETFROM:+0200
TZOFFSETTO:+0100
TZNAME:CET
DTSTART:20241027T010000
END:STANDARD
BEGIN:DAYLIGHT
TZOFFSETFROM:+0100
TZOFFSETTO:+0200
TZNAME:CEST
DTSTART:20250330T010000
END:DAYLIGHT
BEGIN:STANDARD
TZOFFSETFROM:+0200
TZOFFSETTO:+0100
TZNAME:CET
DTSTART:20251026T010000
END:STANDARD
BEGIN:DAYLIGHT
TZOFFSETFROM:+0100
TZOFFSETTO:+0200
TZNAME:CEST
DTSTART:20260329T010000
END:DAYLIGHT
BEGIN:STANDARD
TZOFFSETFROM:+0200
TZOFFSETTO:+0100
TZNAME:CET
DTSTART:20261025T010000
END:STANDARD
END:VTIMEZONE
BEGIN:VEVENT
DTSTART;TZID=Europe/Stockholm:20251206T150000
DTEND;TZID=Europe/Stockholm:20251206T160000
DTSTAMP:20260423T014956
CREATED:20251203T103518Z
LAST-MODIFIED:20251203T103518Z
UID:29881-1765033200-1765036800@ehlers-danlos.se
SUMMARY:Onlineträff EDS Uppsala
DESCRIPTION:Onlineträff EDS Uppsala \nEDS Uppsala bjuder sina medlemmar till en träff online. Information och möteslänk har skickats ut till alla via mail \nLördag den 6 december @15:00 – 16:00
URL:https://ehlers-danlos.se/event/onlinetraff-eds-uppsala/
LOCATION:Online
CATEGORIES:Lokalförening,Uppsala
ORGANIZER;CN="EDS Uppsala":MAILTO:infouppsala@ehlers-danlos.se
END:VEVENT
BEGIN:VEVENT
DTSTART;TZID=Europe/Stockholm:20251207T150000
DTEND;TZID=Europe/Stockholm:20251207T170000
DTSTAMP:20260423T014956
CREATED:20251119T122811Z
LAST-MODIFIED:20251119T122811Z
UID:29837-1765119600-1765126800@ehlers-danlos.se
SUMMARY:Glöggmingel EDS Västmanland
DESCRIPTION:EDS Västmanland bjuder sina medlemmar på glöggmingel i Västerås. Lokal och mer information meddelas inom kort via mail.
URL:https://ehlers-danlos.se/event/gloggmingel-eds-vastmanland/
CATEGORIES:Lokalförening,Västmanland
END:VEVENT
BEGIN:VEVENT
DTSTART;TZID=Europe/Stockholm:20251217T100000
DTEND;TZID=Europe/Stockholm:20251217T110000
DTSTAMP:20260423T014956
CREATED:20251211T105010Z
LAST-MODIFIED:20251211T105010Z
UID:29891-1765965600-1765969200@ehlers-danlos.se
SUMMARY:Digital träff EDS Västmanland
DESCRIPTION:Digital träff EDS Västmanland \nDecember 17 @ 10.00-11.00 \nEDS Västmanland bjuder sina medlemmar till en digital träff. Information och möteslänk skickas via mail. 
URL:https://ehlers-danlos.se/event/digital-traff-eds-vastmanland/
LOCATION:Online
CATEGORIES:Fikaträff,Lokalförening,Västmanland
END:VEVENT
END:VCALENDAR