BEGIN:VCALENDAR
VERSION:2.0
PRODID:-//ehlers-danlos.se - ECPv6.15.20//NONSGML v1.0//EN
CALSCALE:GREGORIAN
METHOD:PUBLISH
X-WR-CALNAME:ehlers-danlos.se
X-ORIGINAL-URL:https://ehlers-danlos.se
X-WR-CALDESC:Händelser för ehlers-danlos.se
REFRESH-INTERVAL;VALUE=DURATION:PT1H
X-Robots-Tag:noindex
X-PUBLISHED-TTL:PT1H
BEGIN:VTIMEZONE
TZID:Europe/Stockholm
BEGIN:DAYLIGHT
TZOFFSETFROM:+0100
TZOFFSETTO:+0200
TZNAME:CEST
DTSTART:20240331T010000
END:DAYLIGHT
BEGIN:STANDARD
TZOFFSETFROM:+0200
TZOFFSETTO:+0100
TZNAME:CET
DTSTART:20241027T010000
END:STANDARD
BEGIN:DAYLIGHT
TZOFFSETFROM:+0100
TZOFFSETTO:+0200
TZNAME:CEST
DTSTART:20250330T010000
END:DAYLIGHT
BEGIN:STANDARD
TZOFFSETFROM:+0200
TZOFFSETTO:+0100
TZNAME:CET
DTSTART:20251026T010000
END:STANDARD
BEGIN:DAYLIGHT
TZOFFSETFROM:+0100
TZOFFSETTO:+0200
TZNAME:CEST
DTSTART:20260329T010000
END:DAYLIGHT
BEGIN:STANDARD
TZOFFSETFROM:+0200
TZOFFSETTO:+0100
TZNAME:CET
DTSTART:20261025T010000
END:STANDARD
END:VTIMEZONE
BEGIN:VEVENT
DTSTART;TZID=Europe/Stockholm:20250821T190000
DTEND;TZID=Europe/Stockholm:20250821T210000
DTSTAMP:20260425T162337
CREATED:20250708T143830Z
LAST-MODIFIED:20250708T143830Z
UID:29610-1755802800-1755810000@ehlers-danlos.se
SUMMARY:Nätverksmöte för personer med vaskulär EDS. Digitalt.
DESCRIPTION:21 augusti kl 19 \nNätverksmöte för personer med vaskulär EDS. Digitalt.
URL:https://ehlers-danlos.se/event/natverksmote-for-personer-med-vaskular-eds-digitalt/
LOCATION:Online via Zoom
CATEGORIES:Nätverksmöte
ORGANIZER;CN="EDS Riksf%C3%B6rbund":MAILTO:info@ehlers-danlos.se
END:VEVENT
BEGIN:VEVENT
DTSTART;TZID=Europe/Stockholm:20250831T180000
DTEND;TZID=Europe/Stockholm:20250831T200000
DTSTAMP:20260425T162337
CREATED:20250708T144235Z
LAST-MODIFIED:20250708T144235Z
UID:29617-1756663200-1756670400@ehlers-danlos.se
SUMMARY:Nätverksmöte för regionföreningar
DESCRIPTION:31 augusti kl 18 \nNätverksmöte för regionföreningar
URL:https://ehlers-danlos.se/event/natverksmote-for-regionforeningar/
LOCATION:Online via Zoom
CATEGORIES:Lokalförening,Nätverksmöte,Riksförbundet
ORGANIZER;CN="EDS Riksf%C3%B6rbund":MAILTO:info@ehlers-danlos.se
END:VEVENT
END:VCALENDAR