BEGIN:VCALENDAR
VERSION:2.0
PRODID:-//ehlers-danlos.se - ECPv6.15.20//NONSGML v1.0//EN
CALSCALE:GREGORIAN
METHOD:PUBLISH
X-ORIGINAL-URL:https://ehlers-danlos.se
X-WR-CALDESC:Händelser för ehlers-danlos.se
REFRESH-INTERVAL;VALUE=DURATION:PT1H
X-Robots-Tag:noindex
X-PUBLISHED-TTL:PT1H
BEGIN:VTIMEZONE
TZID:Europe/Stockholm
BEGIN:DAYLIGHT
TZOFFSETFROM:+0100
TZOFFSETTO:+0200
TZNAME:CEST
DTSTART:20250330T010000
END:DAYLIGHT
BEGIN:STANDARD
TZOFFSETFROM:+0200
TZOFFSETTO:+0100
TZNAME:CET
DTSTART:20251026T010000
END:STANDARD
BEGIN:DAYLIGHT
TZOFFSETFROM:+0100
TZOFFSETTO:+0200
TZNAME:CEST
DTSTART:20260329T010000
END:DAYLIGHT
BEGIN:STANDARD
TZOFFSETFROM:+0200
TZOFFSETTO:+0100
TZNAME:CET
DTSTART:20261025T010000
END:STANDARD
BEGIN:DAYLIGHT
TZOFFSETFROM:+0100
TZOFFSETTO:+0200
TZNAME:CEST
DTSTART:20270328T010000
END:DAYLIGHT
BEGIN:STANDARD
TZOFFSETFROM:+0200
TZOFFSETTO:+0100
TZNAME:CET
DTSTART:20271031T010000
END:STANDARD
END:VTIMEZONE
BEGIN:VEVENT
DTSTART;TZID=Europe/Stockholm:20260505T080000
DTEND;TZID=Europe/Stockholm:20260505T170000
DTSTAMP:20260422T143214
CREATED:20260414T153127Z
LAST-MODIFIED:20260414T153127Z
UID:30289-1777968000-1778000400@ehlers-danlos.se
SUMMARY:Yoga Göteborg
DESCRIPTION:5 maj Yoga Göteborg
URL:https://ehlers-danlos.se/event/yoga-goteborg-3/
LOCATION:Se inbjudan via mejl
CATEGORIES:Regionförening,Västra Götaland
ORGANIZER;CN="EDS V%C3%A4stra G%C3%B6taland":MAILTO:infovastragotaland@ehlers-danlos.se
END:VEVENT
BEGIN:VEVENT
DTSTART;TZID=Europe/Stockholm:20260514T080000
DTEND;TZID=Europe/Stockholm:20260514T170000
DTSTAMP:20260422T143214
CREATED:20260414T153316Z
LAST-MODIFIED:20260414T153316Z
UID:30291-1778745600-1778778000@ehlers-danlos.se
SUMMARY:Ungdomsträff via zoom VG regionen
DESCRIPTION:14 maj Ungdomsträff via zoom VG regionen
URL:https://ehlers-danlos.se/event/ungdomstraff-via-zoom-vg-regionen/
LOCATION:Online via Zoom
CATEGORIES:Regionförening,Ungdomsträff,Västra Götaland
ORGANIZER;CN="EDS V%C3%A4stra G%C3%B6taland":MAILTO:infovastragotaland@ehlers-danlos.se
END:VEVENT
BEGIN:VEVENT
DTSTART;TZID=Europe/Stockholm:20260516T080000
DTEND;TZID=Europe/Stockholm:20260516T170000
DTSTAMP:20260422T143214
CREATED:20260414T153421Z
LAST-MODIFIED:20260414T153421Z
UID:30293-1778918400-1778950800@ehlers-danlos.se
SUMMARY:Fikaträff Skövde
DESCRIPTION:16 maj Fikaträff Skövde
URL:https://ehlers-danlos.se/event/fikatraff-skovde/
LOCATION:Se inbjudan via mejl
CATEGORIES:Fikaträff,Regionförening,Västra Götaland
ORGANIZER;CN="EDS V%C3%A4stra G%C3%B6taland":MAILTO:infovastragotaland@ehlers-danlos.se
END:VEVENT
END:VCALENDAR