BEGIN:VCALENDAR
VERSION:2.0
PRODID:-//ehlers-danlos.se - ECPv6.15.20//NONSGML v1.0//EN
CALSCALE:GREGORIAN
METHOD:PUBLISH
X-ORIGINAL-URL:https://ehlers-danlos.se
X-WR-CALDESC:Händelser för ehlers-danlos.se
REFRESH-INTERVAL;VALUE=DURATION:PT1H
X-Robots-Tag:noindex
X-PUBLISHED-TTL:PT1H
BEGIN:VTIMEZONE
TZID:Europe/Stockholm
BEGIN:DAYLIGHT
TZOFFSETFROM:+0100
TZOFFSETTO:+0200
TZNAME:CEST
DTSTART:20240331T010000
END:DAYLIGHT
BEGIN:STANDARD
TZOFFSETFROM:+0200
TZOFFSETTO:+0100
TZNAME:CET
DTSTART:20241027T010000
END:STANDARD
BEGIN:DAYLIGHT
TZOFFSETFROM:+0100
TZOFFSETTO:+0200
TZNAME:CEST
DTSTART:20250330T010000
END:DAYLIGHT
BEGIN:STANDARD
TZOFFSETFROM:+0200
TZOFFSETTO:+0100
TZNAME:CET
DTSTART:20251026T010000
END:STANDARD
BEGIN:DAYLIGHT
TZOFFSETFROM:+0100
TZOFFSETTO:+0200
TZNAME:CEST
DTSTART:20260329T010000
END:DAYLIGHT
BEGIN:STANDARD
TZOFFSETFROM:+0200
TZOFFSETTO:+0100
TZNAME:CET
DTSTART:20261025T010000
END:STANDARD
END:VTIMEZONE
BEGIN:VEVENT
DTSTART;TZID=Europe/Stockholm:20251211T183000
DTEND;TZID=Europe/Stockholm:20251211T193000
DTSTAMP:20260423T014958
CREATED:20250813T160212Z
LAST-MODIFIED:20251118T101147Z
UID:29643-1765477800-1765481400@ehlers-danlos.se
SUMMARY:Webbinarium om vårdtrauman
DESCRIPTION:Webbinarium torsdag den 11/12 kl. 18:30-19:30 (OBS! tiden) Universitetslektor Monica Buhrman om vårdtrauman
URL:https://ehlers-danlos.se/event/webbinarium-om-vardtrauman/
LOCATION:Online via Zoom
CATEGORIES:Riksförbundet,Webbinarium
ORGANIZER;CN="EDS Riksf%C3%B6rbund":MAILTO:info@ehlers-danlos.se
END:VEVENT
END:VCALENDAR