BEGIN:VCALENDAR
VERSION:2.0
PRODID:-//ehlers-danlos.se - ECPv6.15.20//NONSGML v1.0//EN
CALSCALE:GREGORIAN
METHOD:PUBLISH
X-ORIGINAL-URL:https://ehlers-danlos.se
X-WR-CALDESC:Händelser för ehlers-danlos.se
REFRESH-INTERVAL;VALUE=DURATION:PT1H
X-Robots-Tag:noindex
X-PUBLISHED-TTL:PT1H
BEGIN:VTIMEZONE
TZID:Europe/Stockholm
BEGIN:DAYLIGHT
TZOFFSETFROM:+0100
TZOFFSETTO:+0200
TZNAME:CEST
DTSTART:20250330T010000
END:DAYLIGHT
BEGIN:STANDARD
TZOFFSETFROM:+0200
TZOFFSETTO:+0100
TZNAME:CET
DTSTART:20251026T010000
END:STANDARD
BEGIN:DAYLIGHT
TZOFFSETFROM:+0100
TZOFFSETTO:+0200
TZNAME:CEST
DTSTART:20260329T010000
END:DAYLIGHT
BEGIN:STANDARD
TZOFFSETFROM:+0200
TZOFFSETTO:+0100
TZNAME:CET
DTSTART:20261025T010000
END:STANDARD
BEGIN:DAYLIGHT
TZOFFSETFROM:+0100
TZOFFSETTO:+0200
TZNAME:CEST
DTSTART:20270328T010000
END:DAYLIGHT
BEGIN:STANDARD
TZOFFSETFROM:+0200
TZOFFSETTO:+0100
TZNAME:CET
DTSTART:20271031T010000
END:STANDARD
END:VTIMEZONE
BEGIN:VEVENT
DTSTART;TZID=Europe/Stockholm:20260111T180000
DTEND;TZID=Europe/Stockholm:20260111T200000
DTSTAMP:20260423T001706
CREATED:20251118T133035Z
LAST-MODIFIED:20251118T133035Z
UID:29831-1768154400-1768161600@ehlers-danlos.se
SUMMARY:Nätverksträff
DESCRIPTION:Digitalt möte för regionföreningarnas ordförande och kontaktpersoner. \nSöndag den 11 januari kl. 18-20.
URL:https://ehlers-danlos.se/event/natverkstraff/
LOCATION:Online via Zoom
CATEGORIES:Nätverksmöte,Riksförbundet
ORGANIZER;CN="EDS Riksf%C3%B6rbund":MAILTO:info@ehlers-danlos.se
END:VEVENT
BEGIN:VEVENT
DTSTART;TZID=Europe/Stockholm:20260129T180000
DTEND;TZID=Europe/Stockholm:20260129T190000
DTSTAMP:20260423T001706
CREATED:20260108T155702Z
LAST-MODIFIED:20260108T155702Z
UID:29937-1769709600-1769713200@ehlers-danlos.se
SUMMARY:Webbinarium
DESCRIPTION:Professor Ann Catrine Eldh talar om att vara delaktig i rollen som patient. \nLänk för registrering finns under Mina sidor /Föreläsningar.
URL:https://ehlers-danlos.se/event/webbinarium/
LOCATION:Online via Zoom
CATEGORIES:Riksförbundet,Webbinarium
ORGANIZER;CN="EDS Riksf%C3%B6rbund":MAILTO:info@ehlers-danlos.se
END:VEVENT
END:VCALENDAR