BEGIN:VCALENDAR
VERSION:2.0
PRODID:-//ehlers-danlos.se - ECPv6.15.20//NONSGML v1.0//EN
CALSCALE:GREGORIAN
METHOD:PUBLISH
X-WR-CALNAME:ehlers-danlos.se
X-ORIGINAL-URL:https://ehlers-danlos.se
X-WR-CALDESC:Händelser för ehlers-danlos.se
REFRESH-INTERVAL;VALUE=DURATION:PT1H
X-Robots-Tag:noindex
X-PUBLISHED-TTL:PT1H
BEGIN:VTIMEZONE
TZID:Europe/Stockholm
BEGIN:DAYLIGHT
TZOFFSETFROM:+0100
TZOFFSETTO:+0200
TZNAME:CEST
DTSTART:20240331T010000
END:DAYLIGHT
BEGIN:STANDARD
TZOFFSETFROM:+0200
TZOFFSETTO:+0100
TZNAME:CET
DTSTART:20241027T010000
END:STANDARD
BEGIN:DAYLIGHT
TZOFFSETFROM:+0100
TZOFFSETTO:+0200
TZNAME:CEST
DTSTART:20250330T010000
END:DAYLIGHT
BEGIN:STANDARD
TZOFFSETFROM:+0200
TZOFFSETTO:+0100
TZNAME:CET
DTSTART:20251026T010000
END:STANDARD
BEGIN:DAYLIGHT
TZOFFSETFROM:+0100
TZOFFSETTO:+0200
TZNAME:CEST
DTSTART:20260329T010000
END:DAYLIGHT
BEGIN:STANDARD
TZOFFSETFROM:+0200
TZOFFSETTO:+0100
TZNAME:CET
DTSTART:20261025T010000
END:STANDARD
END:VTIMEZONE
BEGIN:VEVENT
DTSTART;TZID=Europe/Stockholm:20251215T190000
DTEND;TZID=Europe/Stockholm:20251215T203000
DTSTAMP:20260423T005506
CREATED:20251006T103841Z
LAST-MODIFIED:20251006T103841Z
UID:29777-1765825200-1765830600@ehlers-danlos.se
SUMMARY:Digital samtalsgrupp
DESCRIPTION:Digital samtalsgrupp \nDigital samtalsgrupp på temat Glöggfika med reflektion inför årsskiftet. Länk finns på vår webbsida under MINA SIDOR/SAMTALSGRUPP ONLINE. Ingen föranmälan krävs\, logga bara in på mötet några minuter före start. \nMåndag den 15 december @19:00 – 20:30
URL:https://ehlers-danlos.se/event/digital-samtalsgrupp-3/
LOCATION:Online via Zoom
CATEGORIES:Samtalsgrupp online
ORGANIZER;CN="EDS Riksf%C3%B6rbund":MAILTO:info@ehlers-danlos.se
END:VEVENT
END:VCALENDAR