BEGIN:VCALENDAR
VERSION:2.0
PRODID:-//ehlers-danlos.se - ECPv6.15.20//NONSGML v1.0//EN
CALSCALE:GREGORIAN
METHOD:PUBLISH
X-ORIGINAL-URL:https://ehlers-danlos.se
X-WR-CALDESC:Händelser för ehlers-danlos.se
REFRESH-INTERVAL;VALUE=DURATION:PT1H
X-Robots-Tag:noindex
X-PUBLISHED-TTL:PT1H
BEGIN:VTIMEZONE
TZID:Europe/Stockholm
BEGIN:DAYLIGHT
TZOFFSETFROM:+0100
TZOFFSETTO:+0200
TZNAME:CEST
DTSTART:20250330T010000
END:DAYLIGHT
BEGIN:STANDARD
TZOFFSETFROM:+0200
TZOFFSETTO:+0100
TZNAME:CET
DTSTART:20251026T010000
END:STANDARD
BEGIN:DAYLIGHT
TZOFFSETFROM:+0100
TZOFFSETTO:+0200
TZNAME:CEST
DTSTART:20260329T010000
END:DAYLIGHT
BEGIN:STANDARD
TZOFFSETFROM:+0200
TZOFFSETTO:+0100
TZNAME:CET
DTSTART:20261025T010000
END:STANDARD
BEGIN:DAYLIGHT
TZOFFSETFROM:+0100
TZOFFSETTO:+0200
TZNAME:CEST
DTSTART:20270328T010000
END:DAYLIGHT
BEGIN:STANDARD
TZOFFSETFROM:+0200
TZOFFSETTO:+0100
TZNAME:CET
DTSTART:20271031T010000
END:STANDARD
END:VTIMEZONE
BEGIN:VEVENT
DTSTART;TZID=Europe/Stockholm:20260629T190000
DTEND;TZID=Europe/Stockholm:20260629T203000
DTSTAMP:20260423T003141
CREATED:20260212T165125Z
LAST-MODIFIED:20260421T085547Z
UID:30030-1782759600-1782765000@ehlers-danlos.se
SUMMARY:Samtalsgrupp on-line
DESCRIPTION:Framtid\, acceptans och hopp\nDigital samtalsgrupp (endast för medlemmar) | 29 juni kl. 19.00–20.30\nTema: Framtid\, acceptans och hopp – att bygga ett hållbart liv. \nTryggt samtal i smågrupper. \nIngen anmälan krävs.
URL:https://ehlers-danlos.se/event/samtalsgrupp-on-line-3/
LOCATION:Online via Zoom
CATEGORIES:Samtalsgrupp online
ORGANIZER;CN="EDS Riksf%C3%B6rbund":MAILTO:info@ehlers-danlos.se
END:VEVENT
END:VCALENDAR