BEGIN:VCALENDAR
VERSION:2.0
PRODID:-//ehlers-danlos.se - ECPv6.15.20//NONSGML v1.0//EN
CALSCALE:GREGORIAN
METHOD:PUBLISH
X-ORIGINAL-URL:https://ehlers-danlos.se
X-WR-CALDESC:Händelser för ehlers-danlos.se
REFRESH-INTERVAL;VALUE=DURATION:PT1H
X-Robots-Tag:noindex
X-PUBLISHED-TTL:PT1H
BEGIN:VTIMEZONE
TZID:Europe/Stockholm
BEGIN:DAYLIGHT
TZOFFSETFROM:+0100
TZOFFSETTO:+0200
TZNAME:CEST
DTSTART:20240331T010000
END:DAYLIGHT
BEGIN:STANDARD
TZOFFSETFROM:+0200
TZOFFSETTO:+0100
TZNAME:CET
DTSTART:20241027T010000
END:STANDARD
BEGIN:DAYLIGHT
TZOFFSETFROM:+0100
TZOFFSETTO:+0200
TZNAME:CEST
DTSTART:20250330T010000
END:DAYLIGHT
BEGIN:STANDARD
TZOFFSETFROM:+0200
TZOFFSETTO:+0100
TZNAME:CET
DTSTART:20251026T010000
END:STANDARD
BEGIN:DAYLIGHT
TZOFFSETFROM:+0100
TZOFFSETTO:+0200
TZNAME:CEST
DTSTART:20260329T010000
END:DAYLIGHT
BEGIN:STANDARD
TZOFFSETFROM:+0200
TZOFFSETTO:+0100
TZNAME:CET
DTSTART:20261025T010000
END:STANDARD
END:VTIMEZONE
BEGIN:VEVENT
DTSTART;TZID=Europe/Stockholm:20251129T160000
DTEND;TZID=Europe/Stockholm:20251129T170000
DTSTAMP:20260426T025546
CREATED:20251122T104937Z
LAST-MODIFIED:20251122T104937Z
UID:29856-1764432000-1764435600@ehlers-danlos.se
SUMMARY:Digital ungdomsträff
DESCRIPTION:Digital ungdomsträff den 29 november kl. 16:00-17:00.  \nMöteslänk: ttps://teams.live.com/meet/9354674782886?p=c9GhTVBkwEeLnhBXxH
URL:https://ehlers-danlos.se/event/digital-ungdomstraff/
LOCATION:Online via Teams
CATEGORIES:Samtalsgrupp Ung i EDS
ORGANIZER;CN="EDS Riksf%C3%B6rbund":MAILTO:info@ehlers-danlos.se
END:VEVENT
END:VCALENDAR