BEGIN:VCALENDAR
VERSION:2.0
PRODID:-//ehlers-danlos.se - ECPv6.15.20//NONSGML v1.0//EN
CALSCALE:GREGORIAN
METHOD:PUBLISH
X-WR-CALNAME:ehlers-danlos.se
X-ORIGINAL-URL:https://ehlers-danlos.se
X-WR-CALDESC:Händelser för ehlers-danlos.se
REFRESH-INTERVAL;VALUE=DURATION:PT1H
X-Robots-Tag:noindex
X-PUBLISHED-TTL:PT1H
BEGIN:VTIMEZONE
TZID:Europe/Stockholm
BEGIN:DAYLIGHT
TZOFFSETFROM:+0100
TZOFFSETTO:+0200
TZNAME:CEST
DTSTART:20240331T010000
END:DAYLIGHT
BEGIN:STANDARD
TZOFFSETFROM:+0200
TZOFFSETTO:+0100
TZNAME:CET
DTSTART:20241027T010000
END:STANDARD
BEGIN:DAYLIGHT
TZOFFSETFROM:+0100
TZOFFSETTO:+0200
TZNAME:CEST
DTSTART:20250330T010000
END:DAYLIGHT
BEGIN:STANDARD
TZOFFSETFROM:+0200
TZOFFSETTO:+0100
TZNAME:CET
DTSTART:20251026T010000
END:STANDARD
BEGIN:DAYLIGHT
TZOFFSETFROM:+0100
TZOFFSETTO:+0200
TZNAME:CEST
DTSTART:20260329T010000
END:DAYLIGHT
BEGIN:STANDARD
TZOFFSETFROM:+0200
TZOFFSETTO:+0100
TZNAME:CET
DTSTART:20261025T010000
END:STANDARD
END:VTIMEZONE
BEGIN:VEVENT
DTSTART;TZID=Europe/Stockholm:20250309T180000
DTEND;TZID=Europe/Stockholm:20250309T210000
DTSTAMP:20260426T010744
CREATED:20241216T111839Z
LAST-MODIFIED:20241216T112351Z
UID:29039-1741543200-1741554000@ehlers-danlos.se
SUMMARY:Årsmöte EDS Västerbotten 2025
DESCRIPTION:Dags att lägga in årsmötet i kalendern. \nDATUM: 9 mars \nKL: 18:00 \nVAR: Online via ZOOM \nAnmälan görs till infovasterbotten@ehlers-danlos.se \nMotioner skickas senast den 2 februari till infovasterbotten@ehlers-danlos.se
URL:https://ehlers-danlos.se/event/arsmote-eds-vasterbotten-2025/
LOCATION:Online via Zoom
CATEGORIES:Årsmöte,Lokalförening,Västerbotten
ORGANIZER;CN="EDS V%C3%A4sterbotten":MAILTO:infovasterbotten@ehlers-danlos.se
END:VEVENT
END:VCALENDAR