BEGIN:VCALENDAR
VERSION:2.0
PRODID:-//ehlers-danlos.se - ECPv6.15.20//NONSGML v1.0//EN
CALSCALE:GREGORIAN
METHOD:PUBLISH
X-ORIGINAL-URL:https://ehlers-danlos.se
X-WR-CALDESC:Händelser för ehlers-danlos.se
REFRESH-INTERVAL;VALUE=DURATION:PT1H
X-Robots-Tag:noindex
X-PUBLISHED-TTL:PT1H
BEGIN:VTIMEZONE
TZID:Europe/Stockholm
BEGIN:DAYLIGHT
TZOFFSETFROM:+0100
TZOFFSETTO:+0200
TZNAME:CEST
DTSTART:20240331T010000
END:DAYLIGHT
BEGIN:STANDARD
TZOFFSETFROM:+0200
TZOFFSETTO:+0100
TZNAME:CET
DTSTART:20241027T010000
END:STANDARD
BEGIN:DAYLIGHT
TZOFFSETFROM:+0100
TZOFFSETTO:+0200
TZNAME:CEST
DTSTART:20250330T010000
END:DAYLIGHT
BEGIN:STANDARD
TZOFFSETFROM:+0200
TZOFFSETTO:+0100
TZNAME:CET
DTSTART:20251026T010000
END:STANDARD
BEGIN:DAYLIGHT
TZOFFSETFROM:+0100
TZOFFSETTO:+0200
TZNAME:CEST
DTSTART:20260329T010000
END:DAYLIGHT
BEGIN:STANDARD
TZOFFSETFROM:+0200
TZOFFSETTO:+0100
TZNAME:CET
DTSTART:20261025T010000
END:STANDARD
END:VTIMEZONE
BEGIN:VEVENT
DTSTART;TZID=Europe/Stockholm:20251128T160000
DTEND;TZID=Europe/Stockholm:20251128T200000
DTSTAMP:20260423T012913
CREATED:20251119T174924Z
LAST-MODIFIED:20251119T174924Z
UID:29842-1764345600-1764360000@ehlers-danlos.se
SUMMARY:Adventsfika med EDS Västerbotten i Byske
DESCRIPTION:Ta bort . i mejladressen så så blir det rätt.
URL:https://ehlers-danlos.se/event/adventsfika-med-eds-vasterbotten-i-byske/
LOCATION:Café Alice\, Storgatan 4\, Byske\, Storgatan 4\, Byske\, Sweden
CATEGORIES:Fikaträff,Lokalförening,Västerbotten
ORGANIZER;CN="EDS V%C3%A4sterbotten":MAILTO:infovasterbotten@ehlers-danlos.se
END:VEVENT
BEGIN:VEVENT
DTSTART;TZID=Europe/Stockholm:20251129T130000
DTEND;TZID=Europe/Stockholm:20251129T170000
DTSTAMP:20260423T012913
CREATED:20251119T175118Z
LAST-MODIFIED:20251119T175118Z
UID:29846-1764421200-1764435600@ehlers-danlos.se
SUMMARY:Adventsfika med EDS Västerbotten i Umeå
DESCRIPTION:Ta bort . i mejladressen så så blir det rätt.
URL:https://ehlers-danlos.se/event/adventsfika-med-eds-vasterbotten-i-umea/
LOCATION:Café Viktoria\, Björnvägen 11\, Umeå\, 906 40\, Sverige
CATEGORIES:Fikaträff,Lokalförening,Västerbotten
ORGANIZER;CN="EDS V%C3%A4sterbotten":MAILTO:infovasterbotten@ehlers-danlos.se
END:VEVENT
END:VCALENDAR