BEGIN:VCALENDAR
VERSION:2.0
PRODID:-//ehlers-danlos.se - ECPv6.15.20//NONSGML v1.0//EN
CALSCALE:GREGORIAN
METHOD:PUBLISH
X-WR-CALNAME:ehlers-danlos.se
X-ORIGINAL-URL:https://ehlers-danlos.se
X-WR-CALDESC:Händelser för ehlers-danlos.se
REFRESH-INTERVAL;VALUE=DURATION:PT1H
X-Robots-Tag:noindex
X-PUBLISHED-TTL:PT1H
BEGIN:VTIMEZONE
TZID:Europe/Stockholm
BEGIN:DAYLIGHT
TZOFFSETFROM:+0100
TZOFFSETTO:+0200
TZNAME:CEST
DTSTART:20250330T010000
END:DAYLIGHT
BEGIN:STANDARD
TZOFFSETFROM:+0200
TZOFFSETTO:+0100
TZNAME:CET
DTSTART:20251026T010000
END:STANDARD
BEGIN:DAYLIGHT
TZOFFSETFROM:+0100
TZOFFSETTO:+0200
TZNAME:CEST
DTSTART:20260329T010000
END:DAYLIGHT
BEGIN:STANDARD
TZOFFSETFROM:+0200
TZOFFSETTO:+0100
TZNAME:CET
DTSTART:20261025T010000
END:STANDARD
BEGIN:DAYLIGHT
TZOFFSETFROM:+0100
TZOFFSETTO:+0200
TZNAME:CEST
DTSTART:20270328T010000
END:DAYLIGHT
BEGIN:STANDARD
TZOFFSETFROM:+0200
TZOFFSETTO:+0100
TZNAME:CET
DTSTART:20271031T010000
END:STANDARD
END:VTIMEZONE
BEGIN:VEVENT
DTSTART;TZID=Europe/Stockholm:20260321T140000
DTEND;TZID=Europe/Stockholm:20260321T160000
DTSTAMP:20260422T195112
CREATED:20260221T174758Z
LAST-MODIFIED:20260221T174758Z
UID:30076-1774101600-1774108800@ehlers-danlos.se
SUMMARY:Fikaträff Umeå
DESCRIPTION:Kom och fika med oss och surra om vad du känner för. \nVi träffas på Kärngården Renmarkstorget 11 i Umeå \nVi bjuder på fikat. \nDet finns både gluten och laktosfritt. \nAnmälan till infovasterbotten@ehlers-danlos.se \n 
URL:https://ehlers-danlos.se/event/fikatraff-umea-2/
CATEGORIES:Fikaträff,Lokalförening,Västerbotten
ORGANIZER;CN="EDS V%C3%A4sterbotten":MAILTO:infovasterbotten@ehlers-danlos.se
END:VEVENT
END:VCALENDAR