BEGIN:VCALENDAR
VERSION:2.0
PRODID:-//ehlers-danlos.se - ECPv6.15.20//NONSGML v1.0//EN
CALSCALE:GREGORIAN
METHOD:PUBLISH
X-WR-CALNAME:ehlers-danlos.se
X-ORIGINAL-URL:https://ehlers-danlos.se
X-WR-CALDESC:Händelser för ehlers-danlos.se
REFRESH-INTERVAL;VALUE=DURATION:PT1H
X-Robots-Tag:noindex
X-PUBLISHED-TTL:PT1H
BEGIN:VTIMEZONE
TZID:Europe/Stockholm
BEGIN:DAYLIGHT
TZOFFSETFROM:+0100
TZOFFSETTO:+0200
TZNAME:CEST
DTSTART:20240331T010000
END:DAYLIGHT
BEGIN:STANDARD
TZOFFSETFROM:+0200
TZOFFSETTO:+0100
TZNAME:CET
DTSTART:20241027T010000
END:STANDARD
BEGIN:DAYLIGHT
TZOFFSETFROM:+0100
TZOFFSETTO:+0200
TZNAME:CEST
DTSTART:20250330T010000
END:DAYLIGHT
BEGIN:STANDARD
TZOFFSETFROM:+0200
TZOFFSETTO:+0100
TZNAME:CET
DTSTART:20251026T010000
END:STANDARD
BEGIN:DAYLIGHT
TZOFFSETFROM:+0100
TZOFFSETTO:+0200
TZNAME:CEST
DTSTART:20260329T010000
END:DAYLIGHT
BEGIN:STANDARD
TZOFFSETFROM:+0200
TZOFFSETTO:+0100
TZNAME:CET
DTSTART:20261025T010000
END:STANDARD
END:VTIMEZONE
BEGIN:VEVENT
DTSTART;TZID=Europe/Stockholm:20251108T140000
DTEND;TZID=Europe/Stockholm:20251108T160000
DTSTAMP:20260426T045046
CREATED:20251014T091223Z
LAST-MODIFIED:20251014T091223Z
UID:29788-1762610400-1762617600@ehlers-danlos.se
SUMMARY:Medlemsträff i Örnsköldsvik 8/11!
DESCRIPTION:Medlemsträff i Örnsköldsvik 8/11! \n  \nVarmt välkommen till vår medlemsträff\, en eftermiddag fylld med gemenskap och kreativitet! Vi bjuder på en härlig fika\, pysselaktiviteter och och en trevlig stund tillsammans. \n  \nPlats: Vuxenskolan \nTid: Kl. 14:00-16:00 \nAnmäl ditt deltagande senast den 3 november till Anette.Edler@ehlers-danlos.se Obs! Kom ihåg att informera eventuella allergier i samband med din anmälan. \n 
URL:https://ehlers-danlos.se/event/medlemstraff-i-ornskoldsvik-8-11/
LOCATION:Vuxenskolan Centralesplanaden 18\, Örnsköldsvik\, Centralesplanaden 18\, Örnsköldsvik\, Sweden
CATEGORIES:Västernorrland
ORGANIZER;CN="EDS V%C3%A4sternorrland":MAILTO:anette.edler@ehlers-danlos.se
END:VEVENT
END:VCALENDAR