BEGIN:VCALENDAR
VERSION:2.0
PRODID:-//ehlers-danlos.se - ECPv6.15.20//NONSGML v1.0//EN
CALSCALE:GREGORIAN
METHOD:PUBLISH
X-WR-CALNAME:ehlers-danlos.se
X-ORIGINAL-URL:https://ehlers-danlos.se
X-WR-CALDESC:Händelser för ehlers-danlos.se
REFRESH-INTERVAL;VALUE=DURATION:PT1H
X-Robots-Tag:noindex
X-PUBLISHED-TTL:PT1H
BEGIN:VTIMEZONE
TZID:Europe/Stockholm
BEGIN:DAYLIGHT
TZOFFSETFROM:+0100
TZOFFSETTO:+0200
TZNAME:CEST
DTSTART:20250330T010000
END:DAYLIGHT
BEGIN:STANDARD
TZOFFSETFROM:+0200
TZOFFSETTO:+0100
TZNAME:CET
DTSTART:20251026T010000
END:STANDARD
BEGIN:DAYLIGHT
TZOFFSETFROM:+0100
TZOFFSETTO:+0200
TZNAME:CEST
DTSTART:20260329T010000
END:DAYLIGHT
BEGIN:STANDARD
TZOFFSETFROM:+0200
TZOFFSETTO:+0100
TZNAME:CET
DTSTART:20261025T010000
END:STANDARD
BEGIN:DAYLIGHT
TZOFFSETFROM:+0100
TZOFFSETTO:+0200
TZNAME:CEST
DTSTART:20270328T010000
END:DAYLIGHT
BEGIN:STANDARD
TZOFFSETFROM:+0200
TZOFFSETTO:+0100
TZNAME:CET
DTSTART:20271031T010000
END:STANDARD
END:VTIMEZONE
BEGIN:VEVENT
DTSTART;TZID=Europe/Stockholm:20260312T180000
DTEND;TZID=Europe/Stockholm:20260312T190000
DTSTAMP:20260422T235319
CREATED:20260206T140541Z
LAST-MODIFIED:20260206T140541Z
UID:29994-1773338400-1773342000@ehlers-danlos.se
SUMMARY:Träning och fysisk aktivitet vid EDS/HSD
DESCRIPTION:Webbinarium \nmars 12 @ 18:00 – 19:00 \nTräning och fysisk aktivitet vid EDS/HSD \nFöreläsare är fysioterapeut Annika Widuch. Länk till anmälan kommer via mejl och finns även på denna webbsida under MINA SIDOR /FÖRELÄSNINGAR.
URL:https://ehlers-danlos.se/event/traning-och-fysisk-aktivitet-vid-eds-hsd/
LOCATION:Online via Zoom
CATEGORIES:Webbinarium
ORGANIZER;CN="EDS Riksf%C3%B6rbund":MAILTO:info@ehlers-danlos.se
END:VEVENT
END:VCALENDAR